BEGIN:VCALENDAR
VERSION:2.0
PRODID:LFV Website-Kit
METHOD:PUBLISH
BEGIN:VEVENT
UID:lfv-199f63ba-3fcd-4501-a043-509a065d454d
LOCATION:Schule in Walsdorf Schulstrasse 10 96194 Walsdorf
SUMMARY:23. Bezirksleistungsmarsch von Oberfranken
DESCRIPTION:Der 23. Leistungsmarsch im Regierungsbezirk Oberfranken findet am 20. Juni 2026 im Landkreis Bamberg statt. Ausrichter ist die Freiwillige Feuerwehr Walsdorf.\n\nTermin Link: https://bfv-oberfranken.de/termine/23-bezirksleistungsmarsch-von-oberfranken/
URL:https://bfv-oberfranken.de/termine/23-bezirksleistungsmarsch-von-oberfranken/
CLASS:PRIVATE
DTSTART;TZID=Europe/Berlin:20260620T080000
DTEND;TZID=Europe/Berlin:20260620T090000
DTSTAMP:20260420T064539Z
END:VEVENT
END:VCALENDAR